BEGIN:VCALENDAR
VERSION:2.0
PRODID:-//Montgomery County A&amp;M Club - ECPv6.15.20//NONSGML v1.0//EN
CALSCALE:GREGORIAN
METHOD:PUBLISH
X-WR-CALNAME:Montgomery County A&amp;M Club
X-ORIGINAL-URL:https://mcaggies.org
X-WR-CALDESC:Events for Montgomery County A&amp;M Club
REFRESH-INTERVAL;VALUE=DURATION:PT1H
X-Robots-Tag:noindex
X-PUBLISHED-TTL:PT1H
BEGIN:VTIMEZONE
TZID:America/Chicago
BEGIN:DAYLIGHT
TZOFFSETFROM:-0600
TZOFFSETTO:-0500
TZNAME:CDT
DTSTART:20190310T080000
END:DAYLIGHT
BEGIN:STANDARD
TZOFFSETFROM:-0500
TZOFFSETTO:-0600
TZNAME:CST
DTSTART:20191103T070000
END:STANDARD
BEGIN:DAYLIGHT
TZOFFSETFROM:-0600
TZOFFSETTO:-0500
TZNAME:CDT
DTSTART:20200308T080000
END:DAYLIGHT
BEGIN:STANDARD
TZOFFSETFROM:-0500
TZOFFSETTO:-0600
TZNAME:CST
DTSTART:20201101T070000
END:STANDARD
BEGIN:DAYLIGHT
TZOFFSETFROM:-0600
TZOFFSETTO:-0500
TZNAME:CDT
DTSTART:20210314T080000
END:DAYLIGHT
BEGIN:STANDARD
TZOFFSETFROM:-0500
TZOFFSETTO:-0600
TZNAME:CST
DTSTART:20211107T070000
END:STANDARD
END:VTIMEZONE
BEGIN:VEVENT
DTSTART;TZID=America/Chicago:20200222T090000
DTEND;TZID=America/Chicago:20200222T120000
DTSTAMP:20260423T004336
CREATED:20200209T223608Z
LAST-MODIFIED:20200209T230856Z
UID:276-1582362000-1582372800@mcaggies.org
SUMMARY:2/ 22 Go Texan Parade - Feed the Ross Volunteers
DESCRIPTION:Join us at the First Baptist Church (600 Main St. in Conroe) as we assemble BBQ sandwiches to feed the Ross Volunteers before they lead the Go Texan Parade through Conroe.  Volunteers welcome starting at 9:00 a.m. \n 
URL:https://mcaggies.org/event/february-22-go-texan-parade-feed-the-ross-volunteers/
LOCATION:TX
END:VEVENT
END:VCALENDAR